BEGIN:VCALENDAR
VERSION:2.0
PRODID:spatie/icalendar-generator
DESCRIPTION:Évènements de Code Opale
X-WR-CALDESC:Évènements de Code Opale
REFRESH-INTERVAL;VALUE=DURATION:PT1440M
X-PUBLISHED-TTL:PT1440M
BEGIN:VTIMEZONE
TZID:Etc/GMT+5
BEGIN:STANDARD
DTSTART:20230607T093000Z
TZOFFSETFROM:-0500
TZOFFSETTO:-0500
END:STANDARD
END:VTIMEZONE
BEGIN:VTIMEZONE
TZID:UTC
BEGIN:STANDARD
DTSTART:20250725T121102Z
TZOFFSETFROM:+0000
TZOFFSETTO:+0000
END:STANDARD
END:VTIMEZONE
BEGIN:VEVENT
UID:41-11
DTSTAMP:20260421T121102Z
SUMMARY:Prendre soin de soi\, la fondation sur laquelle repose tout le rest
 e
LOCATION:
ORGANIZER;CN=Patrick Lopez:MAILTO:patrick@codeopale.com
DTSTART;TZID=Etc/GMT+5:20240303T093000
DTEND;TZID=Etc/GMT+5:20240303T103000
X-ALT-DESC;FMTTYPE=TEXT/HTML:Venez plonger au plus profond de vous-même da
 ns cette formation qui vous permettra de mettre en place des moyens concre
 ts pour prendre soin de vous dans votre quotidien.
CATEGORIES:General
URL;VALUE=URI:https://www.codeopale.com/mc-events/prendre-soin-de-soi-la-fo
 ndation-sur-laquelle-repose-tout-le-reste/
METHOD:PUBLISH
END:VEVENT
END:VCALENDAR