BEGIN:VCALENDAR
VERSION:2.0
PRODID:spatie/icalendar-generator
DESCRIPTION:Évènements de Code Opale
X-WR-CALDESC:Évènements de Code Opale
REFRESH-INTERVAL;VALUE=DURATION:PT1440M
X-PUBLISHED-TTL:PT1440M
BEGIN:VTIMEZONE
TZID:Etc/GMT+5
BEGIN:STANDARD
DTSTART:20230809T093000Z
TZOFFSETFROM:-0500
TZOFFSETTO:-0500
END:STANDARD
END:VTIMEZONE
BEGIN:VTIMEZONE
TZID:UTC
BEGIN:STANDARD
DTSTART:20250726T114220Z
TZOFFSETFROM:+0000
TZOFFSETTO:+0000
END:STANDARD
END:VTIMEZONE
BEGIN:VEVENT
UID:39-9
DTSTAMP:20260422T114220Z
SUMMARY:La charge mentale\, quand le cerveau épuise le corps
LOCATION:
ORGANIZER;CN=Patrick Lopez:MAILTO:patrick@codeopale.com
DTSTART;TZID=Etc/GMT+5:20240505T093000
DTEND;TZID=Etc/GMT+5:20240505T113000
X-ALT-DESC;FMTTYPE=TEXT/HTML:Comprendre et intervenir sur votre charge ment
 ale afin d’améliorer votre quotidien au travail et à la maison.
CATEGORIES:General
URL;VALUE=URI:https://www.codeopale.com/mc-events/la-charge-mentale-quand-l
 e-cerveau-epuise-le-corps/
METHOD:PUBLISH
END:VEVENT
END:VCALENDAR