BEGIN:VCALENDAR
VERSION:2.0
PRODID:spatie/icalendar-generator
DESCRIPTION:Évènements de Code Opale
X-WR-CALDESC:Évènements de Code Opale
REFRESH-INTERVAL;VALUE=DURATION:PT1440M
X-PUBLISHED-TTL:PT1440M
BEGIN:VTIMEZONE
TZID:Etc/GMT+5
BEGIN:STANDARD
DTSTART:20230115T130000Z
TZOFFSETFROM:-0500
TZOFFSETTO:-0500
END:STANDARD
END:VTIMEZONE
BEGIN:VTIMEZONE
TZID:UTC
BEGIN:STANDARD
DTSTART:20250725T121154Z
TZOFFSETFROM:+0000
TZOFFSETTO:+0000
END:STANDARD
END:VTIMEZONE
BEGIN:VEVENT
UID:38-8
DTSTAMP:20260421T121154Z
SUMMARY:Décider en Intelligence Collective
LOCATION:
ORGANIZER;CN=Code Opale:MAILTO:info@codeopale.com
DTSTART;TZID=Etc/GMT+5:20231012T130000
DTEND;TZID=Etc/GMT+5:20231012T170000
X-ALT-DESC;FMTTYPE=TEXT/HTML:
CATEGORIES:General
URL;VALUE=URI:https://www.codeopale.com/mc-events/decider-en-intelligence-c
 ollective-2/
METHOD:PUBLISH
END:VEVENT
END:VCALENDAR